BEGIN:VCALENDAR
VERSION:2.0
PRODID:-//Tulla Urban Farming - ECPv6.3.5//NONSGML v1.0//EN
CALSCALE:GREGORIAN
METHOD:PUBLISH
X-ORIGINAL-URL:https://tullaurban.farm
X-WR-CALDESC:Events for Tulla Urban Farming
REFRESH-INTERVAL;VALUE=DURATION:PT1H
X-Robots-Tag:noindex
X-PUBLISHED-TTL:PT1H
BEGIN:VTIMEZONE
TZID:UTC
BEGIN:STANDARD
TZOFFSETFROM:+0000
TZOFFSETTO:+0000
TZNAME:UTC
DTSTART:20220101T000000
END:STANDARD
END:VTIMEZONE
BEGIN:VEVENT
DTSTART;VALUE=DATE:20220224
DTEND;VALUE=DATE:20220225
DTSTAMP:20260425T182512
CREATED:20170822T115820Z
LAST-MODIFIED:20220626T232616Z
UID:13842-1645660800-1645747199@tullaurban.farm
SUMMARY:Inaugurimi i Urban Farming School
DESCRIPTION:E keni menduar ndonjëherë një shkollë joformale që do të pajis të rinjtë me aftësi bujqësore në zonat urbane\, si çati e tarraca? \nProjekti ‘Zhvillimi i Qëndrueshëm Rural’ (SRD) i implementuar nga GIZ\, në bashkëpunim me Tulla – Culture Center filluan një program specifik arsimor joformal që do të prezantojë dhe edukojë të rinjtë për jetesën e gjelbër\, duke krijuar shkollën e parë urbane bujqësore në Tiranë. \nNga gjetja e farave e deri tek rritja e bimëve në kushte urbane\, lexoni në linkun në bio për projektin më të ri nga SRD \nKy projekt financohet nga Qeveria Gjermane dhe Kika Construction dhe implementohet nga GIZ dhe Tulla Culture Center në bashkëpunim me Ministrinë e Bujqësisë dhe Zhvillimit Rural \nPhoto Copyright & Credits: © Tulla / Klaudja Xhaja \n 
URL:https://tullaurban.farm/aktiviteti/inaugurimi-i-urban-farming-school/
LOCATION:Urban Farming School –\, Tulla Culture Center\, Tiranë\, 1000\, Albania
CATEGORIES:Bujqësia
ATTACH;FMTTYPE=image/jpeg:https://tullaurban.farm/wp-content/uploads/2022/06/perne.jpg
ORGANIZER;CN="GIZ - SRD":MAILTO:info@giz.com
END:VEVENT
END:VCALENDAR