BEGIN:VCALENDAR
VERSION:2.0
PRODID:-//Tulla Urban Farming - ECPv6.3.5//NONSGML v1.0//EN
CALSCALE:GREGORIAN
METHOD:PUBLISH
X-WR-CALNAME:Tulla Urban Farming
X-ORIGINAL-URL:https://tullaurban.farm
X-WR-CALDESC:Events for Tulla Urban Farming
REFRESH-INTERVAL;VALUE=DURATION:PT1H
X-Robots-Tag:noindex
X-PUBLISHED-TTL:PT1H
BEGIN:VTIMEZONE
TZID:Europe/Helsinki
BEGIN:DAYLIGHT
TZOFFSETFROM:+0200
TZOFFSETTO:+0300
TZNAME:EEST
DTSTART:20220327T010000
END:DAYLIGHT
BEGIN:STANDARD
TZOFFSETFROM:+0300
TZOFFSETTO:+0200
TZNAME:EET
DTSTART:20221030T010000
END:STANDARD
END:VTIMEZONE
BEGIN:VEVENT
DTSTART;TZID=Europe/Helsinki:20220526T193000
DTEND;TZID=Europe/Helsinki:20220526T210000
DTSTAMP:20260425T134956
CREATED:20160630T230000Z
LAST-MODIFIED:20220626T225726Z
UID:10792-1653593400-1653598800@tullaurban.farm
SUMMARY:Ceremonia e ndarjes së Çertifikatave
DESCRIPTION:Pilot projekti i ‘Fermës Urbane’ u lançua në shkurt 2022\, pas investimeve të përfunduara në tarracën e Tulla – Culture Center. Thirrja e parë për pjesëmarrje në shkollën jo-formale u hap në Dhjetor 2021 ku pranuam më shumë se 100 aplikime. Më shumë se 30 pjesëmarrës nga të gjitha moshat ndoqën me sukses kurset mbi\, bujqësinë urbane\, prodhimin e fidanëve perimore\, kultivimin e perimeve\, sëmundjet e bimëve etj\, dhe zyrtarisht mund t’i quajmë gjenerata e parë e fermerëve urban në Tiranë. \nGrupi i 2-të sapo ka filluar klasat dhe të gjithë të interesuarit mund të ndjekin web faqen www.tullaurban.farm për më shumë informacion mbi klasat e ardhshme! \nTë ndërtojmë më shumë kopshte dhe hapësira të gjelbra në qytet!\nTë bëhemi më të përgjegjshëm ndaj natyrës\, tokës dhe resurseve që na ofron pa kursim. \nProjekti ‘Urban Farming’ u mundësua nga financimi i qeverisë gjermane\, nëpërmjet GIZ në bashkëpunim me Ministrinë e Bujqësisë dhe Zhvillimit Rural dhe implementohet nga Tulla – Culture Center.\nFalenderojmë po ashtu Kika Construction për investimin e bërë në tarracën e Tulla Urban Farming School. \nPhoto Copyright & Credits: © Tulla / Ergys Zhabjaku \n 
URL:https://tullaurban.farm/aktiviteti/ceremonia-e-ndarjes-se-certifikatave/
LOCATION:Urban Farming School –\, Tulla Culture Center\, Tiranë\, 1000\, Albania
CATEGORIES:Bujqësia
ATTACH;FMTTYPE=image/jpeg:https://tullaurban.farm/wp-content/uploads/2022/06/7diplomimi.jpg
ORGANIZER;CN="GIZ - SRD":MAILTO:info@giz.com
END:VEVENT
END:VCALENDAR