BEGIN:VCALENDAR
VERSION:2.0
PRODID:-//Tulla Urban Farming - ECPv6.3.5//NONSGML v1.0//EN
CALSCALE:GREGORIAN
METHOD:PUBLISH
X-ORIGINAL-URL:https://tullaurban.farm
X-WR-CALDESC:Events for Tulla Urban Farming
REFRESH-INTERVAL;VALUE=DURATION:PT1H
X-Robots-Tag:noindex
X-PUBLISHED-TTL:PT1H
BEGIN:VTIMEZONE
TZID:UTC
BEGIN:STANDARD
TZOFFSETFROM:+0000
TZOFFSETTO:+0000
TZNAME:UTC
DTSTART:20220101T000000
END:STANDARD
END:VTIMEZONE
BEGIN:VEVENT
DTSTART;TZID=UTC:20221013T180000
DTEND;TZID=UTC:20221013T193000
DTSTAMP:20260425T054924
CREATED:20221012T093207Z
LAST-MODIFIED:20221013T102940Z
UID:15980-1665684000-1665689400@tullaurban.farm
SUMMARY:Ferma Urbane për fëmijë
DESCRIPTION:  \n\nE enjten më 22 Shtator 2002\,\norën 18:00\n\n\n\nNë kuadër të Tetorit Gjerman Tulla ju fton në datën 13 Tetor duke filluar nga ora 18:00\, për të marrë pjesë në kursin Ferma Urbane për fëmijë. Mosha e Fëmijëve që mund të ndjekim kursin edukativ është 8-14 vjec. \nJu ftojmë të aplikoni në linkun e mëposhtëm sepse hyrja është e kufizuar. * Imagjinoni një qytet të gjelbërt\, me ferma në çdo oborr apo hapësirë urbane të qytetit. Ndërtesat shndërrohen në organizma të gjallë që prodhojnë ushqim të shëndetshëm për banorët. Ne jemi të apasionuar pas bujqësisë urbane\, duke promovuar një ndërgjegjësim më të madh për praktikat e jetesës së qëndrueshme dhe duke fuqizuar komunitetin tonë për të rritur ushqime të shijshme dhe ushqyese në çdo hapësirë – nga ballkonet e vogla të banimit deri te hapësirat e mëdha tregtare. Për këtë arsye ne duam t’u mësojmë fëmijëve që në moshë të re rëndësinë e ushqimit të shëndetshëm dhe mjediseve të gjelbra në zonat urbane. \nQendra Kulturore Tulla Center\, përmes mbështetjes së GIZ\, është duke ofruar kurse edukative për të rinjtë në fushën e bujqësisë. Ndërkohë nga ky projekt do të ofrohen kurse edhe për fëmijët.\nFëmijët mund të mbjellin vazot e tyre\, të mësojnë truket e shpejta dhe t’i marrin prodhimet e tyre në shtëpi. \nApliko këtu
URL:https://tullaurban.farm/aktiviteti/ferma-urbane-per-femije/
CATEGORIES:Bujqësia
ATTACH;FMTTYPE=image/jpeg:https://tullaurban.farm/wp-content/uploads/2022/10/kidsfarming-03.jpg
END:VEVENT
END:VCALENDAR